BEGIN:VCALENDAR
VERSION:2.0
PRODID:http://www.golf.at/
METHOD:PUBLISH
BEGIN:VEVENT
TZID:Europe/Vienna
UID:20260421T175509@golf.at
ORGANIZER;CN=GOLF.AT:MAILTO:noreply@golf.at
LOCATION:Golfclub Marco Polo Vienna
SUMMARY:Clubmeisterschaft 2026 2. Tag (keine Anmeldung möglich)
CLASS:PUBLIC
DTSTART;VALUE=DATE:20260830
DTEND;VALUE=DATE:20260831
DTSTAMP:20260421T175509
END:VEVENT
END:VCALENDAR
