BEGIN:VCALENDAR
VERSION:2.0
PRODID:http://www.golf.at/
METHOD:PUBLISH
BEGIN:VEVENT
TZID:Europe/Vienna
UID:20260422T140258@golf.at
ORGANIZER;CN=GOLF.AT:MAILTO:noreply@golf.at
LOCATION:GC Bludenz-Braz
SUMMARY:Lionsthrophy*85 by HARRYSON Buisnesswear im Zuge des Seniorenturniers offen für alle
CLASS:PUBLIC
DTSTART;VALUE=DATE:20260624
DTEND;VALUE=DATE:20260625
DTSTAMP:20260422T140258
END:VEVENT
END:VCALENDAR
