BEGIN:VCALENDAR
VERSION:2.0
PRODID:http://www.golf.at/
METHOD:PUBLISH
BEGIN:VEVENT
TZID:Europe/Vienna
UID:20260422T101337@golf.at
ORGANIZER;CN=GOLF.AT:MAILTO:noreply@golf.at
LOCATION:Kaiserwinkl Golf Kössen - Lärchenhof
SUMMARY:Preis des Vorstandes mit Cagey Strings
CLASS:PUBLIC
DTSTART;VALUE=DATE:20260801
DTEND;VALUE=DATE:20260802
DTSTAMP:20260422T101337
END:VEVENT
END:VCALENDAR
