BEGIN:VCALENDAR
VERSION:2.0
PRODID:http://www.golf.at/
METHOD:PUBLISH
BEGIN:VEVENT
TZID:Europe/Vienna
UID:20260423T145223@golf.at
ORGANIZER;CN=GOLF.AT:MAILTO:noreply@golf.at
LOCATION:Golfclub Salzburg
SUMMARY:Charity-Golfturnier der Volkshilfe Salzburg und AK-ÖGB Betriebssport
CLASS:PUBLIC
DTSTART;VALUE=DATE:20260815
DTEND;VALUE=DATE:20260816
DTSTAMP:20260423T145223
END:VEVENT
END:VCALENDAR
