BEGIN:VCALENDAR
VERSION:2.0
PRODID:http://www.golf.at/
METHOD:PUBLISH
BEGIN:VEVENT
TZID:Europe/Vienna
UID:20260425T124907@golf.at
ORGANIZER;CN=GOLF.AT:MAILTO:noreply@golf.at
LOCATION:Golf & Country Club Salzburg-Klessheim
SUMMARY:Schoellerbank Festspielturnier (Chapman Vierer)
CLASS:PUBLIC
DTSTART;VALUE=DATE:20260726
DTEND;VALUE=DATE:20260727
DTSTAMP:20260425T124907
END:VEVENT
END:VCALENDAR
