BEGIN:VCALENDAR
VERSION:2.0
PRODID:http://www.golf.at/
METHOD:PUBLISH
BEGIN:VEVENT
TZID:Europe/Vienna
UID:20260425T125126@golf.at
ORGANIZER;CN=GOLF.AT:MAILTO:noreply@golf.at
LOCATION:Golf & Country Club Salzburg-Klessheim
SUMMARY:Monatsbecher by Generali Versicherung AG
CLASS:PUBLIC
DTSTART;VALUE=DATE:20260719
DTEND;VALUE=DATE:20260720
DTSTAMP:20260425T125126
END:VEVENT
END:VCALENDAR
