BEGIN:VCALENDAR
VERSION:2.0
PRODID:http://www.golf.at/
METHOD:PUBLISH
BEGIN:VEVENT
TZID:Europe/Vienna
UID:20260425T125029@golf.at
ORGANIZER;CN=GOLF.AT:MAILTO:noreply@golf.at
LOCATION:Golf & Country Club Salzburg-Klessheim
SUMMARY:Senioren/innen Turnier 9-Loch (clubintern)
CLASS:PUBLIC
DTSTART;VALUE=DATE:20260605
DTEND;VALUE=DATE:20260606
DTSTAMP:20260425T125029
END:VEVENT
END:VCALENDAR
