BEGIN:VCALENDAR
VERSION:2.0
PRODID:http://www.golf.at/
METHOD:PUBLISH
BEGIN:VEVENT
TZID:Europe/Vienna
UID:20260423T150936@golf.at
ORGANIZER;CN=GOLF.AT:MAILTO:noreply@golf.at
LOCATION:Golfclub Traunsee Almtal
SUMMARY:Lionstrophy*55 by HARRYSON Businesswear
CLASS:PUBLIC
DTSTART;VALUE=DATE:20260521
DTEND;VALUE=DATE:20260522
DTSTAMP:20260423T150936
END:VEVENT
END:VCALENDAR
