BEGIN:VCALENDAR
VERSION:2.0
PRODID:http://www.golf.at/
METHOD:PUBLISH
BEGIN:VEVENT
TZID:Europe/Vienna
UID:20260423T145223@golf.at
ORGANIZER;CN=GOLF.AT:MAILTO:noreply@golf.at
LOCATION:Golf Regau Attersee-Traunsee
SUMMARY:9-Loch Golf Regau Juniors Sommer Cup 4
CLASS:PUBLIC
DTSTART;VALUE=DATE:20260805
DTEND;VALUE=DATE:20260806
DTSTAMP:20260423T145223
END:VEVENT
END:VCALENDAR
