BEGIN:VCALENDAR
VERSION:2.0
PRODID:http://www.golf.at/
METHOD:PUBLISH
BEGIN:VEVENT
TZID:Europe/Vienna
UID:20260423T145632@golf.at
ORGANIZER;CN=GOLF.AT:MAILTO:noreply@golf.at
LOCATION:Golfpark Metzenhof
SUMMARY:MEHR.grün Clubchallenge
CLASS:PUBLIC
DTSTART;VALUE=DATE:20260731
DTEND;VALUE=DATE:20260801
DTSTAMP:20260423T145632
END:VEVENT
END:VCALENDAR
