BEGIN:VCALENDAR
VERSION:2.0
PRODID:http://www.golf.at/
METHOD:PUBLISH
BEGIN:VEVENT
TZID:Europe/Vienna
UID:20260423T165315@golf.at
ORGANIZER;CN=GOLF.AT:MAILTO:noreply@golf.at
LOCATION:Golfpark Metzenhof
SUMMARY:Turkish Airlines und Golfreisen Armbrüster Trophy powered by Dr. Theiss
CLASS:PUBLIC
DTSTART;VALUE=DATE:20260718
DTEND;VALUE=DATE:20260719
DTSTAMP:20260423T165315
END:VEVENT
END:VCALENDAR
