BEGIN:VCALENDAR
VERSION:2.0
PRODID:http://www.golf.at/
METHOD:PUBLISH
BEGIN:VEVENT
TZID:Europe/Vienna
UID:20260423T145848@golf.at
ORGANIZER;CN=GOLF.AT:MAILTO:noreply@golf.at
LOCATION:Golfpark Metzenhof
SUMMARY:Turkish Airlines und Golfreisen Armbrüster Trophy powered by Dr. Theiss
CLASS:PUBLIC
DTSTART;VALUE=DATE:20260507
DTEND;VALUE=DATE:20260508
DTSTAMP:20260423T145848
END:VEVENT
END:VCALENDAR
