BEGIN:VCALENDAR
VERSION:2.0
PRODID:http://www.golf.at/
METHOD:PUBLISH
BEGIN:VEVENT
TZID:Europe/Vienna
UID:20260425T202052@golf.at
ORGANIZER;CN=GOLF.AT:MAILTO:noreply@golf.at
LOCATION:Golfclub Pischelsdorf - Gut Kaltenhausen
SUMMARY:Seniorenrallye Mitte
CLASS:PUBLIC
DTSTART;VALUE=DATE:20260526
DTEND;VALUE=DATE:20260527
DTSTAMP:20260425T202052
END:VEVENT
END:VCALENDAR
