BEGIN:VCALENDAR
VERSION:2.0
PRODID:http://www.golf.at/
METHOD:PUBLISH
BEGIN:VEVENT
TZID:Europe/Vienna
UID:20260423T145848@golf.at
ORGANIZER;CN=GOLF.AT:MAILTO:noreply@golf.at
LOCATION:Golf Club Kremstal
SUMMARY:Sonnberger MEHR.matchplay'26 Tour ( InMetzenhof)
CLASS:PUBLIC
DTSTART;VALUE=DATE:20260418
DTEND;VALUE=DATE:20260419
DTSTAMP:20260423T145848
END:VEVENT
END:VCALENDAR
