BEGIN:VCALENDAR
VERSION:2.0
PRODID:http://www.golf.at/
METHOD:PUBLISH
BEGIN:VEVENT
TZID:Europe/Vienna
UID:20260423T145250@golf.at
ORGANIZER;CN=GOLF.AT:MAILTO:noreply@golf.at
LOCATION:Golf Club Kremstal
SUMMARY:Race to Mallorca Mittwochscup by Autohaus Schmidberger GmbH
CLASS:PUBLIC
DTSTART;VALUE=DATE:20261014
DTEND;VALUE=DATE:20261015
DTSTAMP:20260423T145250
END:VEVENT
END:VCALENDAR
