BEGIN:VCALENDAR
VERSION:2.0
PRODID:http://www.golf.at/
METHOD:PUBLISH
BEGIN:VEVENT
TZID:Europe/Vienna
UID:20260425T144628@golf.at
ORGANIZER;CN=GOLF.AT:MAILTO:noreply@golf.at
LOCATION:Golfclub Herzog Tassilo
SUMMARY:Anmeldung Mehr.Grün Clubchallenge für GC Luftenberg
CLASS:PUBLIC
DTSTART;VALUE=DATE:20260807
DTEND;VALUE=DATE:20260808
DTSTAMP:20260425T144628
END:VEVENT
END:VCALENDAR
