BEGIN:VCALENDAR
VERSION:2.0
PRODID:http://www.golf.at/
METHOD:PUBLISH
BEGIN:VEVENT
TZID:Europe/Vienna
UID:20260425T130345@golf.at
ORGANIZER;CN=GOLF.AT:MAILTO:noreply@golf.at
LOCATION:Golfclub Herzog Tassilo
SUMMARY:MAKITA Afterwork 9 - Abgesagt!!
CLASS:PUBLIC
DTSTART;VALUE=DATE:20260416
DTEND;VALUE=DATE:20260417
DTSTAMP:20260425T130345
END:VEVENT
END:VCALENDAR
