BEGIN:VCALENDAR
VERSION:2.0
PRODID:http://www.golf.at/
METHOD:PUBLISH
BEGIN:VEVENT
TZID:Europe/Vienna
UID:20260425T144822@golf.at
ORGANIZER;CN=GOLF.AT:MAILTO:noreply@golf.at
LOCATION:Golfclub Herzog Tassilo
SUMMARY:TURKISH AIRLINES & GOLFREISEN ARMBRÜSTER TROPHY
CLASS:PUBLIC
DTSTART;VALUE=DATE:20260715
DTEND;VALUE=DATE:20260716
DTSTAMP:20260425T144822
END:VEVENT
END:VCALENDAR
