BEGIN:VCALENDAR
VERSION:2.0
PRODID:http://www.golf.at/
METHOD:PUBLISH
BEGIN:VEVENT
TZID:Europe/Vienna
UID:20260423T145848@golf.at
ORGANIZER;CN=GOLF.AT:MAILTO:noreply@golf.at
LOCATION:Golfclub Maria Theresia Haag-H.
SUMMARY:Auswahldrive, Bestball & 2er Texas Scramble
CLASS:PUBLIC
DTSTART;VALUE=DATE:20260530
DTEND;VALUE=DATE:20260531
DTSTAMP:20260423T145848
END:VEVENT
END:VCALENDAR
