BEGIN:VCALENDAR
VERSION:2.0
PRODID:http://www.golf.at/
METHOD:PUBLISH
BEGIN:VEVENT
TZID:Europe/Vienna
UID:20260423T145251@golf.at
ORGANIZER;CN=GOLF.AT:MAILTO:noreply@golf.at
LOCATION:GC Am Mondsee
SUMMARY:Turkish Airlines & Golfreisen Armbrüster Trophy by Dr. Theiss
CLASS:PUBLIC
DTSTART;VALUE=DATE:20260915
DTEND;VALUE=DATE:20260916
DTSTAMP:20260423T145251
END:VEVENT
END:VCALENDAR
