BEGIN:VCALENDAR
VERSION:2.0
PRODID:http://www.golf.at/
METHOD:PUBLISH
BEGIN:VEVENT
TZID:Europe/Vienna
UID:20260423T150657@golf.at
ORGANIZER;CN=GOLF.AT:MAILTO:noreply@golf.at
LOCATION:GC Wels
SUMMARY:9-Loch Proshop Afterwork Turnier by Reinigungsteam Komplettservice GmbH
CLASS:PUBLIC
DTSTART;VALUE=DATE:20260709
DTEND;VALUE=DATE:20260710
DTSTAMP:20260423T150657
END:VEVENT
END:VCALENDAR
