BEGIN:VCALENDAR
VERSION:2.0
PRODID:http://www.golf.at/
METHOD:PUBLISH
BEGIN:VEVENT
TZID:Europe/Vienna
UID:20260423T145920@golf.at
ORGANIZER;CN=GOLF.AT:MAILTO:noreply@golf.at
LOCATION:GC Linz - St. Florian
SUMMARY:Lionstrophy*85 by HARRYSON Businesswear
CLASS:PUBLIC
DTSTART;VALUE=DATE:20260616
DTEND;VALUE=DATE:20260617
DTSTAMP:20260423T145920
END:VEVENT
END:VCALENDAR
