BEGIN:VCALENDAR
VERSION:2.0
PRODID:http://www.golf.at/
METHOD:PUBLISH
BEGIN:VEVENT
TZID:Europe/Vienna
UID:20260423T145918@golf.at
ORGANIZER;CN=GOLF.AT:MAILTO:noreply@golf.at
LOCATION:GC Linz - St. Florian
SUMMARY:TURKISH AIRLINES & GOLFREISEN ARMBRÜSTER TROPHY powered by DR. THEISS
CLASS:PUBLIC
DTSTART;VALUE=DATE:20260421
DTEND;VALUE=DATE:20260422
DTSTAMP:20260423T145918
END:VEVENT
END:VCALENDAR
