BEGIN:VCALENDAR
VERSION:2.0
PRODID:http://www.golf.at/
METHOD:PUBLISH
BEGIN:VEVENT
TZID:Europe/Vienna
UID:20260424T103637@golf.at
ORGANIZER;CN=GOLF.AT:MAILTO:noreply@golf.at
LOCATION:GOLF ELDORADO-Bucklige Welt
SUMMARY:9-Loch B-C.C Hcp-Challenge
CLASS:PUBLIC
DTSTART;VALUE=DATE:20260707
DTEND;VALUE=DATE:20260708
DTSTAMP:20260424T103637
END:VEVENT
END:VCALENDAR
