BEGIN:VCALENDAR
VERSION:2.0
PRODID:http://www.golf.at/
METHOD:PUBLISH
BEGIN:VEVENT
TZID:Europe/Vienna
UID:20260424T103349@golf.at
ORGANIZER;CN=GOLF.AT:MAILTO:noreply@golf.at
LOCATION:GOLF ELDORADO-Bucklige Welt
SUMMARY:30. Österr. Lederhosen-Golf-Turnier by L.L.
CLASS:PUBLIC
DTSTART;VALUE=DATE:20261010
DTEND;VALUE=DATE:20261011
DTSTAMP:20260424T103349
END:VEVENT
END:VCALENDAR
