BEGIN:VCALENDAR
VERSION:2.0
PRODID:http://www.golf.at/
METHOD:PUBLISH
BEGIN:VEVENT
TZID:Europe/Vienna
UID:20260424T103349@golf.at
ORGANIZER;CN=GOLF.AT:MAILTO:noreply@golf.at
LOCATION:GOLF ELDORADO-Bucklige Welt
SUMMARY:Golf Eldorado-Bucklige Welt-Clubmeisterschaft 2026
CLASS:PUBLIC
DTSTART;VALUE=DATE:20260711
DTEND;VALUE=DATE:20260712
DTSTAMP:20260424T103349
END:VEVENT
END:VCALENDAR
