BEGIN:VCALENDAR
VERSION:2.0
PRODID:http://www.golf.at/
METHOD:PUBLISH
BEGIN:VEVENT
TZID:Europe/Vienna
UID:20260424T103401@golf.at
ORGANIZER;CN=GOLF.AT:MAILTO:noreply@golf.at
LOCATION:GOLF ELDORADO-Bucklige Welt
SUMMARY:Austrian Amateur Open 2026 - Race to Malaysia
CLASS:PUBLIC
DTSTART;VALUE=DATE:20260524
DTEND;VALUE=DATE:20260525
DTSTAMP:20260424T103401
END:VEVENT
END:VCALENDAR
