BEGIN:VCALENDAR
VERSION:2.0
PRODID:http://www.golf.at/
METHOD:PUBLISH
BEGIN:VEVENT
TZID:Europe/Vienna
UID:20260424T120812@golf.at
ORGANIZER;CN=GOLF.AT:MAILTO:noreply@golf.at
LOCATION:GOLF ELDORADO-Bucklige Welt
SUMMARY:Strawberry Tour 2026 über 18-Loch
CLASS:PUBLIC
DTSTART;VALUE=DATE:20260514
DTEND;VALUE=DATE:20260515
DTSTAMP:20260424T120812
END:VEVENT
END:VCALENDAR
