BEGIN:VCALENDAR
VERSION:2.0
PRODID:http://www.golf.at/
METHOD:PUBLISH
BEGIN:VEVENT
TZID:Europe/Vienna
UID:20260419T161540@golf.at
ORGANIZER;CN=GOLF.AT:MAILTO:noreply@golf.at
LOCATION:GC Velden Wörthersee
SUMMARY:VGA monatliches Zählwettspiel (7:30 bis 9 Uhr)
CLASS:PUBLIC
DTSTART;VALUE=DATE:20260726
DTEND;VALUE=DATE:20260727
DTSTAMP:20260419T161540
END:VEVENT
END:VCALENDAR
