BEGIN:VCALENDAR
VERSION:2.0
PRODID:http://www.golf.at/
METHOD:PUBLISH
BEGIN:VEVENT
TZID:Europe/Vienna
UID:20260419T144154@golf.at
ORGANIZER;CN=GOLF.AT:MAILTO:noreply@golf.at
LOCATION:GC Velden Wörthersee
SUMMARY:10.  IMMOREAL Kärnten Golf Trophy 2026
CLASS:PUBLIC
DTSTART;VALUE=DATE:20260606
DTEND;VALUE=DATE:20260607
DTSTAMP:20260419T144154
END:VEVENT
END:VCALENDAR
