BEGIN:VCALENDAR
VERSION:2.0
PRODID:http://www.golf.at/
METHOD:PUBLISH
BEGIN:VEVENT
TZID:Europe/Vienna
UID:20260419T144442@golf.at
ORGANIZER;CN=GOLF.AT:MAILTO:noreply@golf.at
LOCATION:GC Velden Wörthersee
SUMMARY:CLUBMEISTERSCHAFTEN  Allgemein/MidAm 2025 36. Loch 12.9-13.9..9. Zählwett
CLASS:PUBLIC
DTSTART;VALUE=DATE:20260912
DTEND;VALUE=DATE:20260913
DTSTAMP:20260419T144442
END:VEVENT
END:VCALENDAR
