BEGIN:VCALENDAR
VERSION:2.0
PRODID:http://www.golf.at/
METHOD:PUBLISH
BEGIN:VEVENT
TZID:Europe/Vienna
UID:20260419T144320@golf.at
ORGANIZER;CN=GOLF.AT:MAILTO:noreply@golf.at
LOCATION:GC Velden Wörthersee
SUMMARY:VGA TGI Friday 9 Loch (15:30 bis 16:30 Uhr)
CLASS:PUBLIC
DTSTART;VALUE=DATE:20260410
DTEND;VALUE=DATE:20260411
DTSTAMP:20260419T144320
END:VEVENT
END:VCALENDAR
